BEGIN:VCALENDAR
VERSION:2.0
PRODID:-//wp-events-plugin.com//6.1.4//EN
BEGIN:VEVENT
UID:2258@srdvrhpolje.si
DTSTART;VALUE=DATE:20260524
DTEND;VALUE=DATE:20260525
DTSTAMP:20260416T171443Z
URL:https://srdvrhpolje.si/events/veteranski-turnir-v-malem-nogometu-60/
SUMMARY:Veteranski turnir v malem nogometu 60+
DESCRIPTION:Veteranski turnir v malem nogometu 60+ bo letos potekal v nedel
 jo\, 24. maja\, na umetni travi pri vaškem domu v Hrpeljah.\n\nDogodek je
  namenjen vsem ljubiteljem nogometa v zrelejših letih\, ki še vedno radi
  stopijo na igrišče\, pokažejo svoje znanje in predvsem uživajo v igri
  ter druženju.\n\nTurnir ne bo le športno tekmovanje\, temveč tudi pril
 ožnost za prijetno srečanje starih znancev\, obujanje spominov na pretek
 le tekme ter krepitev prijateljskih vezi. V ospredju bodo fair play\, dobr
 a volja in spoštovanje\, rezultat pa tokrat ne bo v prvem planu.\n\nOb ig
 rišču bo poskrbljeno tudi za sproščeno vzdušje\, zato vabljeni tako i
 gralci kot tudi navijači\, da se pridružite in skupaj ustvarimo prijeten
  športni dan v Hrpeljah.\n\n&nbsp\;
ATTACH;FMTTYPE=image/jpeg:https://srdvrhpolje.si/wp-content/uploads/2025/1
 1/380467-1.jpg
LOCATION:Vaški dom Hrpelje\, Hrpelje\, Na Gorici 2a\, Vaški dom Hrpelje\,
  6240\, Slovenia
X-APPLE-STRUCTURED-LOCATION;VALUE=URI;X-ADDRESS=Hrpelje\, Na Gorici 2a\, Va
 ški dom Hrpelje\, 6240\, Slovenia;X-APPLE-RADIUS=100;X-TITLE=Vaški dom H
 rpelje:geo:0,0
END:VEVENT
END:VCALENDAR