BEGIN:VCALENDAR
VERSION:2.0
PRODID:-//wp-events-plugin.com//6.1.4//EN
BEGIN:VEVENT
UID:2259@srdvrhpolje.si
DTSTART:20260525T170000Z
DTEND:20260525T200000Z
DTSTAMP:20260416T171651Z
URL:https://srdvrhpolje.si/events/festival-aktivnega-staranja/
SUMMARY:Festival aktivnega staranja
DESCRIPTION:V ponedeljek\, 25. maja\, med 17. in 20. uro bo potekal Festiva
 l aktivnega staranja.\n\nZa zdaj si datum le rezervirajte\, podrobnosti pr
 ograma in lokacije še sledijo.&nbsp\;
END:VEVENT
END:VCALENDAR